BEGIN:VCALENDAR
VERSION:2.0
PRODID:-//CCDT - ECPv6.15.20//NONSGML v1.0//EN
CALSCALE:GREGORIAN
METHOD:PUBLISH
X-ORIGINAL-URL:https://ccdt.org.uk
X-WR-CALDESC:Events for CCDT
REFRESH-INTERVAL;VALUE=DURATION:PT1H
X-Robots-Tag:noindex
X-PUBLISHED-TTL:PT1H
BEGIN:VTIMEZONE
TZID:Europe/London
BEGIN:DAYLIGHT
TZOFFSETFROM:+0000
TZOFFSETTO:+0100
TZNAME:BST
DTSTART:20230326T010000
END:DAYLIGHT
BEGIN:STANDARD
TZOFFSETFROM:+0100
TZOFFSETTO:+0000
TZNAME:GMT
DTSTART:20231029T010000
END:STANDARD
BEGIN:DAYLIGHT
TZOFFSETFROM:+0000
TZOFFSETTO:+0100
TZNAME:BST
DTSTART:20240331T010000
END:DAYLIGHT
BEGIN:STANDARD
TZOFFSETFROM:+0100
TZOFFSETTO:+0000
TZNAME:GMT
DTSTART:20241027T010000
END:STANDARD
BEGIN:DAYLIGHT
TZOFFSETFROM:+0000
TZOFFSETTO:+0100
TZNAME:BST
DTSTART:20250330T010000
END:DAYLIGHT
BEGIN:STANDARD
TZOFFSETFROM:+0100
TZOFFSETTO:+0000
TZNAME:GMT
DTSTART:20251026T010000
END:STANDARD
END:VTIMEZONE
BEGIN:VEVENT
DTSTART;TZID=Europe/London:20241012T100000
DTEND;TZID=Europe/London:20241012T130000
DTSTAMP:20260421T120817
CREATED:20241009T091118Z
LAST-MODIFIED:20241009T091505Z
UID:4060-1728727200-1728738000@ccdt.org.uk
SUMMARY:Walled Garden Volunteer Day 12/10/24
DESCRIPTION:
URL:https://ccdt.org.uk/event/walled-garden-volunteer-day-12-10-24/
LOCATION:Walled Garden (///gallons.logs.cheer)\, Cambusbarron\, Stirling\, FK7 9PU\, United Kingdom
CATEGORIES:Volunteer Day,Walled Garden
ATTACH;FMTTYPE=image/jpeg:https://ccdt.org.uk/wp-content/uploads/2024/10/Walled-Garden-121024.jpg
END:VEVENT
BEGIN:VEVENT
DTSTART;TZID=Europe/London:20241026T100000
DTEND;TZID=Europe/London:20241026T130000
DTSTAMP:20260421T120817
CREATED:20241009T092119Z
LAST-MODIFIED:20241024T215822Z
UID:4066-1729936800-1729947600@ccdt.org.uk
SUMMARY:Walled Garden Volunteer Day 26/10/24
DESCRIPTION:
URL:https://ccdt.org.uk/event/walled-garden-volunteer-day-26-10-24/
LOCATION:Walled Garden (///gallons.logs.cheer)\, Cambusbarron\, Stirling\, FK7 9PU\, United Kingdom
CATEGORIES:Volunteer Day,Walled Garden
ATTACH;FMTTYPE=image/jpeg:https://ccdt.org.uk/wp-content/uploads/2024/10/volunteer-day-261024.jpg
END:VEVENT
END:VCALENDAR