BEGIN:VCALENDAR
VERSION:2.0
PRODID:-//CCDT - ECPv6.15.20//NONSGML v1.0//EN
CALSCALE:GREGORIAN
METHOD:PUBLISH
X-ORIGINAL-URL:https://ccdt.org.uk
X-WR-CALDESC:Events for CCDT
REFRESH-INTERVAL;VALUE=DURATION:PT1H
X-Robots-Tag:noindex
X-PUBLISHED-TTL:PT1H
BEGIN:VTIMEZONE
TZID:Europe/London
BEGIN:DAYLIGHT
TZOFFSETFROM:+0000
TZOFFSETTO:+0100
TZNAME:BST
DTSTART:20230326T010000
END:DAYLIGHT
BEGIN:STANDARD
TZOFFSETFROM:+0100
TZOFFSETTO:+0000
TZNAME:GMT
DTSTART:20231029T010000
END:STANDARD
BEGIN:DAYLIGHT
TZOFFSETFROM:+0000
TZOFFSETTO:+0100
TZNAME:BST
DTSTART:20240331T010000
END:DAYLIGHT
BEGIN:STANDARD
TZOFFSETFROM:+0100
TZOFFSETTO:+0000
TZNAME:GMT
DTSTART:20241027T010000
END:STANDARD
BEGIN:DAYLIGHT
TZOFFSETFROM:+0000
TZOFFSETTO:+0100
TZNAME:BST
DTSTART:20250330T010000
END:DAYLIGHT
BEGIN:STANDARD
TZOFFSETFROM:+0100
TZOFFSETTO:+0000
TZNAME:GMT
DTSTART:20251026T010000
END:STANDARD
END:VTIMEZONE
BEGIN:VEVENT
DTSTART;TZID=Europe/London:20241109T100000
DTEND;TZID=Europe/London:20241109T130000
DTSTAMP:20260421T104118
CREATED:20241024T215728Z
LAST-MODIFIED:20241024T215729Z
UID:4073-1731146400-1731157200@ccdt.org.uk
SUMMARY:Walled Garden Volunteer Day 9/11/24
DESCRIPTION:Details to come nearer the day
URL:https://ccdt.org.uk/event/walled-garden-volunteer-day-9-11-24/
LOCATION:Walled Garden (///gallons.logs.cheer)\, Cambusbarron\, Stirling\, FK7 9PU\, United Kingdom
CATEGORIES:Volunteer Day,Walled Garden
END:VEVENT
BEGIN:VEVENT
DTSTART;TZID=Europe/London:20241130T190000
DTEND;TZID=Europe/London:20241130T220000
DTSTAMP:20260421T104118
CREATED:20241114T204951Z
LAST-MODIFIED:20241114T204953Z
UID:4080-1732993200-1733004000@ccdt.org.uk
SUMMARY:St Andrew's Night Ceilidh 2024
DESCRIPTION:
URL:https://ccdt.org.uk/event/st-andrews-night-ceilidh-2024/
LOCATION:Cambusbarron Community Centre (///hello.finds.proof)\, Cambusbarron Community Centre\, St Ninians Road\, Cambusbarron\, FK7 9NU\, United Kingdom
CATEGORIES:Community Event
ATTACH;FMTTYPE=image/jpeg:https://ccdt.org.uk/wp-content/uploads/2024/11/St-Andrews-Ceilidh-2024.jpg
END:VEVENT
END:VCALENDAR